BEGIN:VCALENDAR
VERSION:2.0
PRODID:-//eventon.com NONSGML v1.0//EN
BEGIN:VEVENT
UID:69e9e2dd99103
DTSTAMP:20260423T111405
DTSTART:20250630T054500Z
DTEND:20250829T121500Z
LOCATION:Colegio Alfonso X El Sabio C/ Pelayo Sola 24\,  San Adrián
SUMMARY:LUDOTECA DE VERANO
DESCRIPTION: Inscripciones: Hasta el 17 de junio en la Ludoteca lunes\,  martes y jueves de 17 a 19h\,  en laberintoeducativo@hotmail.com o al telf. 699 18 41 80. &nbsp; Información: &nbsp; Ficha de inscripción:
END:VEVENT
END:VCALENDAR