BEGIN:VCALENDAR
VERSION:2.0
PRODID:-//eventon.com NONSGML v1.0//EN
BEGIN:VEVENT
UID:69e9e6ce9b8e9
DTSTAMP:20260423T113054
DTSTART:20250622T220000Z
DTEND:20250717T220000Z
LOCATION:Complejo Deportivo San Adrián C/ Isla 59
SUMMARY:CAMPUS DE VERANO
DESCRIPTION: Haz clic para descargar y ver la información.
END:VEVENT
END:VCALENDAR