BEGIN:VCALENDAR
VERSION:2.0
PRODID:-//eventon.com NONSGML v1.0//EN
BEGIN:VEVENT
UID:69e9e2f7b76c7
DTSTAMP:20260423T111431
DTSTART:20240315T170000Z
DTEND:20240315T183000Z
LOCATION:Complejo Deportivo San Adrián C/ Isla 59
SUMMARY:MASTERCLASS KICKBOXING & BOXEO
DESCRIPTION: Actividad gratuita para socios/as del complejo. Obligatorio previa inscripción. ¡Plazas limitadas! INSCRIPCIONES en la recepción del Complejo\,  tlf. 948 487 074. &nbsp;
END:VEVENT
END:VCALENDAR