BEGIN:VCALENDAR
VERSION:2.0
PRODID:-//eventon.com NONSGML v1.0//EN
BEGIN:VEVENT
UID:69e739160c4e4
DTSTAMP:20260421T104510
DTSTART:20230626T070000Z
DTEND:20230721T120000Z
LOCATION:Complejo Deportivo San Adrián C/ Isla 59
SUMMARY:CAMPUS COMPLEJO DEPORTIVO
DESCRIPTION: EDAD: de 4 a 12 años. (Por grupos por de edades) HORARIO: de 9 a 14h. FECHAS: del 26 de junio al 21 de julio (por semanas\,  de lunes a viernes) PRECIOS: Soci@s y abon@s de verano: 50€ No soci@s: 90€ *Consultar descuentos por herman@s y por más de una[..]
END:VEVENT
END:VCALENDAR