BEGIN:VCALENDAR
VERSION:2.0
PRODID:-//eventon.com NONSGML v1.0//EN
BEGIN:VEVENT
UID:69e896b8a6a15
DTSTAMP:20260422T113656
DTSTART:20230616T220000Z
DTEND:20230617T215900Z
LOCATION:
SUMMARY:XXVI Romería Virgen de Gracia
DESCRIPTION: PROGRAMA ROMERÍA VIRGEN DE GRACIA 9:30h. Concentración en la sede social de la Asociación Cultural Raíces de Andalucía (calle Delicias\,  3). 9:45h. Salida hacia la iglesia. 10:00h. Misa de romeros\,  cantada por el coro "Duende Andaluz". 11:00h. Comienzo del camino\,  siguiendo a la Virgen. 11:30h. Parada y almuerzo. 12:30h. Continuación[..]
END:VEVENT
END:VCALENDAR