BEGIN:VCALENDAR
VERSION:2.0
PRODID:-//eventon.com NONSGML v1.0//EN
BEGIN:VEVENT
UID:69e702c419b78
DTSTAMP:20260421T065324
DTSTART:20230410T070000Z
DTEND:20230414T113000Z
LOCATION:Estadio Municipal de San Adrián Camino del Marinal s/n
SUMMARY:CAMPUS DE FUTBOL
DESCRIPTION: Esta Semana Santa nuestr@s jóvenes pueden disfrutar de su deporte con el campus de fútbol que organiza el C.D. San Adrián. CAMPUS DE FUTBOL CON FERNANDO RUBIO: HORARIO: de 9 a 13.30h (se puede dejar desde las 8:45h) EDAD:  Nacidos entre 2017 y 2008 (inclusive). PRECIO:  65€ (incluye almuerzo) INSCRIPCIONES:[..]
END:VEVENT
END:VCALENDAR