BEGIN:VCALENDAR
VERSION:2.0
PRODID:-//eventon.com NONSGML v1.0//EN
BEGIN:VEVENT
UID:69eb9e44e0ac4
DTSTAMP:20260424T184556
DTSTART:20220929T160000Z
DTEND:20220929T180000Z
LOCATION:
SUMMARY:VIOLETAS POR LA PAZ
DESCRIPTION: A partir de las 18:00h.\,  cuento+actividad\,  a cargo de Ditirambo Teatro. Aforo limitado Inscripciones en la Biblioteca.
END:VEVENT
END:VCALENDAR