BEGIN:VCALENDAR
VERSION:2.0
PRODID:-//eventon.com NONSGML v1.0//EN
BEGIN:VEVENT
UID:69ebc7879602d
DTSTAMP:20260424T214159
DTSTART:20220527T070000Z
DTEND:20220527T083000Z
LOCATION:Ayuntamiento San Adrián AVDA. NAVARRA 7
SUMMARY:PASEO SALUDABLE
DESCRIPTION: Salida a las 9h desde el ayuntamiento. El paseo se realizará por las zonas rurales de nuestro municipio y tendrán una duración aproximada de 1h. No es necesario inscribirse. Haz clic en el cartel y podrás descargártelo.
END:VEVENT
END:VCALENDAR