BEGIN:VCALENDAR
VERSION:2.0
PRODID:-//eventon.com NONSGML v1.0//EN
BEGIN:VEVENT
UID:69ea42412efca
DTSTAMP:20260423T180105
DTSTART:20220220T173000Z
DTEND:20220220T215000Z
LOCATION:Casa de Cultura Travesía Vera Magallón s/n\,  San Adrián 31570
SUMMARY:IÑAKI URRUTIA
DESCRIPTION: Monologuista con una larga trayectoria en el circuito de la comedia nacional. Actualmente además es presentador del programa de Movistar + Últimos Fichajes. &nbsp; Adquiere tu entrada aquí (haz clic).
END:VEVENT
END:VCALENDAR